BEGIN:VCALENDAR
VERSION:2.0
PRODID:-//Sonoma Gymnastics Academy - ECPv6.15.18//NONSGML v1.0//EN
CALSCALE:GREGORIAN
METHOD:PUBLISH
X-ORIGINAL-URL:https://sonomagymnasticsacademy.com
X-WR-CALDESC:Events for Sonoma Gymnastics Academy
REFRESH-INTERVAL;VALUE=DURATION:PT1H
X-Robots-Tag:noindex
X-PUBLISHED-TTL:PT1H
BEGIN:VTIMEZONE
TZID:America/Los_Angeles
BEGIN:DAYLIGHT
TZOFFSETFROM:-0800
TZOFFSETTO:-0700
TZNAME:PDT
DTSTART:20240310T100000
END:DAYLIGHT
BEGIN:STANDARD
TZOFFSETFROM:-0700
TZOFFSETTO:-0800
TZNAME:PST
DTSTART:20241103T090000
END:STANDARD
BEGIN:DAYLIGHT
TZOFFSETFROM:-0800
TZOFFSETTO:-0700
TZNAME:PDT
DTSTART:20250309T100000
END:DAYLIGHT
BEGIN:STANDARD
TZOFFSETFROM:-0700
TZOFFSETTO:-0800
TZNAME:PST
DTSTART:20251102T090000
END:STANDARD
BEGIN:DAYLIGHT
TZOFFSETFROM:-0800
TZOFFSETTO:-0700
TZNAME:PDT
DTSTART:20260308T100000
END:DAYLIGHT
BEGIN:STANDARD
TZOFFSETFROM:-0700
TZOFFSETTO:-0800
TZNAME:PST
DTSTART:20261101T090000
END:STANDARD
END:VTIMEZONE
BEGIN:VEVENT
DTSTART;VALUE=DATE:20251101
DTEND;VALUE=DATE:20251102
DTSTAMP:20260423T143608
CREATED:20251029T212417Z
LAST-MODIFIED:20251029T212417Z
UID:9544-1761955200-1762041599@sonomagymnasticsacademy.com
SUMMARY:Costume Day!
DESCRIPTION:Feel free to wear your Halloween costume for those who did not get the opportunity to wear their costume to the gym! \nWhen: Saturday\, November 1st \nWhere: Sonoma Gymnastics Academy
URL:https://sonomagymnasticsacademy.com/event/costume-day-2/
END:VEVENT
BEGIN:VEVENT
DTSTART;TZID=America/Los_Angeles:20251122T120000
DTEND;TZID=America/Los_Angeles:20251122T130000
DTSTAMP:20260423T143608
CREATED:20251112T225140Z
LAST-MODIFIED:20251112T225140Z
UID:9567-1763812800-1763816400@sonomagymnasticsacademy.com
SUMMARY:Drop In Day!
DESCRIPTION:Do you want to try out our gym for a day before enrolling in classes? Are you trying to get a make-up class after being absent in a class you’re enrolled in? Would you like your child’s skills assessed to see if they’re ready for the next level? Then come to our Drop-In days! \nOnce per month during this hour-long class\, the floor will be split into three groups of kids (1-3\, 4-6\, 8+). Coaches will allow little ones to enjoy use of our equipment\, run obstacle courses\, play\, and learn new skills. No membership fee is required\, and there’s no previous sign-up. Just show up and have some fun! Classes will be capped at 10 children per age group\, so show up on time. \nThis class is $20 per child\, and you will be asked to sign a waiver before participating. If you want to take it as a make-up class for an absence\, check in with the front desk and the class will be FREE! \nWHEN: Once per Month on the last Saturday of the month! (12pm-1pm) \nCLASS LENGTH: 1 Hour \nWHERE: Sonoma Gymnastics Academy\, 1620 Carneros Meadows Lane\, Suite #108\, Sonoma\, CA 95476\nCOST: $20 per child (FREE for Make-Up class students!) \nIMPORTANT INFO: Please bring a water bottle and clothes that are comfortable to move in. Please also tie long hair back. Let us know if your child has any special needs so we can better accommodate them. If you would like a child to be assessed by a coach for skill level\, please email us at info@sonomagymnasticsacademy.com BEFORE you arrive to class. We WILL cap attendance at 30 students\, so arrive on time to be sure you can participate. \nNOT NEEDED: Previous sign-up/enrollment\, a gym membership\, an account with SGA! This event is for EVERYONE! \nUPON ARRIVAL:\n-YOU MUST check in at the front desk! You will need to sign a waiver and pay the fee before participating in drop-in days. We accept venmo\, cash (preferred) and card.\n-Remove shoes before going onto the gym floor. Socks are okay\, but barefoot preferred!\n-Do not eat or drink on the gym floor.\n-If your child is under 4 years of age\, they MUST be accompanied by an adult while on the gym floor!\n-Feel free to email us to let us know you’re coming. It’s not necessary\, but we like knowing who’s coming\, especially if you’re new!  \nIf you have any questions\, please call us at 707-343-1402 or email us at info@sonomagymnasticsacademy.com.
URL:https://sonomagymnasticsacademy.com/event/drop-in-day-3/
END:VEVENT
BEGIN:VEVENT
DTSTART;TZID=America/Los_Angeles:20251122T163000
DTEND;TZID=America/Los_Angeles:20251122T203000
DTSTAMP:20260423T143608
CREATED:20251029T214648Z
LAST-MODIFIED:20251029T214648Z
UID:9550-1763829000-1763843400@sonomagymnasticsacademy.com
SUMMARY:PKNO
DESCRIPTION:Join us for a Gymnastics event:  Parents Night Out/Kid’s Night at the gym!  This is a great opportunity for kids and grown ups to have a night out. Parents can use this time to go out to dinner\, hang with friends\, or do any activity you want. Meanwhile the kids come to play with friends\, build forts\, enjoy games\, watch a movie and more! We’ll even feed them a yummy dinner and dessert. Proceeds will go towards this season’s competition fees for our competition athletes. \nWe ask that all participants be potty trained and bring a water bottle with them. Please inform us of any food allergies and intolerances before arrival\, so we can make sure to accommodate your child. \nDate: Saturday\, November 22 \nTime: 4:30m – 8:30pm \nAges: 4 – 12 years \nPrice: $60 per child
URL:https://sonomagymnasticsacademy.com/event/pkno/
END:VEVENT
BEGIN:VEVENT
DTSTART;TZID=America/Los_Angeles:20251124T083000
DTEND;TZID=America/Los_Angeles:20251126T143000
DTSTAMP:20260423T143608
CREATED:20251112T222034Z
LAST-MODIFIED:20251112T222034Z
UID:9565-1763973000-1764167400@sonomagymnasticsacademy.com
SUMMARY:Thanksgiving Camp!
DESCRIPTION:Do your kids want something fun to do during Thanksgiving break? We’re holding a special 3-day camp from November 24th to the 26th! This will be a day camp running from 8:30AM to 2:30PM. We’ll offer fun games\, awesome arts and crafts\, tasty snacks and of course GYMNASTICS!! Our camp is for ages 4-12 and spots are very limited. Sign up today through the parent portal or through email or even give us a call! \nWhere: Sonoma Gymnastics Academy (1620 Carneros Meadows Lane) \nWhen: November 24th-26th \nEnrollment Options:\nClick here for Parent Portal \nOur Phone Number: (707) 343-1402 \nEmail: info@sonomagymnasticsacademy.com
URL:https://sonomagymnasticsacademy.com/event/thanksgiving-camp/
END:VEVENT
BEGIN:VEVENT
DTSTART;VALUE=DATE:20251127
DTEND;VALUE=DATE:20251201
DTSTAMP:20260423T143608
CREATED:20251029T211339Z
LAST-MODIFIED:20251029T211750Z
UID:9537-1764201600-1764547199@sonomagymnasticsacademy.com
SUMMARY:CLOSED!
DESCRIPTION:GYM CLOSURE FOR THANKSGIVING WEEK \nWe will be reopened Monday December 1st. \nEnjoy your Thanksgiving Break!
URL:https://sonomagymnasticsacademy.com/event/closed/
END:VEVENT
END:VCALENDAR