BEGIN:VCALENDAR
VERSION:2.0
PRODID:-//Sonoma Gymnastics Academy - ECPv6.15.18//NONSGML v1.0//EN
CALSCALE:GREGORIAN
METHOD:PUBLISH
X-ORIGINAL-URL:https://sonomagymnasticsacademy.com
X-WR-CALDESC:Events for Sonoma Gymnastics Academy
REFRESH-INTERVAL;VALUE=DURATION:PT1H
X-Robots-Tag:noindex
X-PUBLISHED-TTL:PT1H
BEGIN:VTIMEZONE
TZID:America/Los_Angeles
BEGIN:DAYLIGHT
TZOFFSETFROM:-0800
TZOFFSETTO:-0700
TZNAME:PDT
DTSTART:20240310T100000
END:DAYLIGHT
BEGIN:STANDARD
TZOFFSETFROM:-0700
TZOFFSETTO:-0800
TZNAME:PST
DTSTART:20241103T090000
END:STANDARD
BEGIN:DAYLIGHT
TZOFFSETFROM:-0800
TZOFFSETTO:-0700
TZNAME:PDT
DTSTART:20250309T100000
END:DAYLIGHT
BEGIN:STANDARD
TZOFFSETFROM:-0700
TZOFFSETTO:-0800
TZNAME:PST
DTSTART:20251102T090000
END:STANDARD
BEGIN:DAYLIGHT
TZOFFSETFROM:-0800
TZOFFSETTO:-0700
TZNAME:PDT
DTSTART:20260308T100000
END:DAYLIGHT
BEGIN:STANDARD
TZOFFSETFROM:-0700
TZOFFSETTO:-0800
TZNAME:PST
DTSTART:20261101T090000
END:STANDARD
END:VTIMEZONE
BEGIN:VEVENT
DTSTART;TZID=America/Los_Angeles:20250920T163000
DTEND;TZID=America/Los_Angeles:20250920T203000
DTSTAMP:20260423T173225
CREATED:20250916T214001Z
LAST-MODIFIED:20250919T014421Z
UID:9399-1758385800-1758400200@sonomagymnasticsacademy.com
SUMMARY:PKNO: National Gymnastics Day
DESCRIPTION:  \nJoin us for a special National Gymnastics Day event:  Parents Night Out/Kid’s Night at the gym!  This is a great opportunity for kids and grown ups to have a night out. Parents can use this time to go out to dinner\, hang with friends\, or do any activity you want. Meanwhile the kids come to play with friends\, build forts\, enjoy games\, watch a movie and more! We’ll even feed them a yummy dinner and dessert. Proceeds will go towards this season’s competition fees for our competition athletes. \nWe ask that all participants be potty trained and bring a water bottle with them. Please inform us of any food allergies and intolerances before arrival\, so we can make sure to accommodate your child. \nDate: Saturday\, September 20 \nTime: 4:30m – 8:30pm \nAges: 4 – 12 years \nPrice: $60 per child \nEnroll through our Parent Portal \nOr Enroll by emailing info@sonomagymnasticsacademy.com \n\n 
URL:https://sonomagymnasticsacademy.com/event/events-calendar/
LOCATION:Private: Sonoma Gymnastics Academy\, 1620 Carneros Meadows Lane\, Sonoma\, CA\, 95476\, United States
ATTACH;FMTTYPE=image/png:https://sonomagymnasticsacademy.com/wp-content/uploads/2025/09/Untitled-design-1-scaled.png
END:VEVENT
BEGIN:VEVENT
DTSTART;TZID=America/Los_Angeles:20250927T120000
DTEND;TZID=America/Los_Angeles:20250927T130000
DTSTAMP:20260423T173225
CREATED:20250922T221922Z
LAST-MODIFIED:20250922T221922Z
UID:9462-1758974400-1758978000@sonomagymnasticsacademy.com
SUMMARY:Drop in Day
DESCRIPTION:Do you want to try out our gym for a day before enrolling in classes? Are you trying to get a make-up class after being absent in a class you’re enrolled in? Would you like your child’s skills assessed to see if they’re ready for the next level? Then come to our Drop-In days! \nOnce per month during this hour-long class\, the floor will be split into three groups of kids (1-3\, 4-6\, 8+). Coaches will allow little ones to enjoy use of our equipment\, run obstacle courses\, play\, and learn new skills. No membership fee is required\, and there’s no previous sign-up. Just show up and have some fun! Classes will be capped at 10 children per age group\, so show up on time. \nThis class is $20 per child\, and you will be asked to sign a waiver before participating. If you want to take it as a make-up class for an absence\, check in with the front desk and the class will be FREE! \nWHEN: Once per Month on the last Saturday of the month! (12pm-1pm)\nCLASS LENGTH: 1 Hour\nWHERE: Sonoma Gymnastics Academy\, 1620 Carneros Meadows Lane\, Suite #108\, Sonoma\, CA 95476\nCOST: $20 per child (FREE for Make-Up class students!)\nIMPORTANT INFO: Please bring a water bottle and clothes that are comfortable to move in. Please also tie long hair back. Let us know if your child has any special needs so we can better accommodate them. If you would like a child to be assessed by a coach for skill level\, please email us at info@sonomagymnasticsacademy.com BEFORE you arrive to class. We WILL cap attendance at 30 students\, so arrive on time to be sure you can participate.\nNOT NEEDED: Previous sign-up/enrollment\, a gym membership\, an account with SGA! This event is for EVERYONE! \nUPON ARRIVAL:\n-YOU MUST check in at the front desk! You will need to sign a waiver and pay the fee before participating in drop-in days. We accept cash (preferred) and card.\n-Remove shoes before going onto the gym floor. Socks are okay\, but barefoot prefered!\n-Do not eat or drink on the gym floor.\n-If your child is under 4 years of age\, they MUST be accompanied by an adult while on the gym floor!\n-Feel free to email us to let us know you’re coming. It’s not necessary\, but we like knowing who’s coming\, especially if you’re new!  \nIf you have any questions\, please call us at 707-343-1402 or email us at info@sonomagymnasticsacademy.com.
URL:https://sonomagymnasticsacademy.com/event/drop-in-day/
ATTACH;FMTTYPE=image/jpeg:https://sonomagymnasticsacademy.com/wp-content/uploads/2024/02/drop-in-day-banner.jpg
END:VEVENT
BEGIN:VEVENT
DTSTART;TZID=America/Los_Angeles:20250927T163000
DTEND;TZID=America/Los_Angeles:20250927T203000
DTSTAMP:20260423T173225
CREATED:20250922T224741Z
LAST-MODIFIED:20250923T224529Z
UID:9469-1758990600-1759005000@sonomagymnasticsacademy.com
SUMMARY:PKNO: KPOP Demon Hunters
DESCRIPTION:Join us for a special KPOP Demon Hunters event:  Parents Night Out/Kid’s Night at the gym!  This is a great opportunity for kids and grown ups to have a night out. Parents can use this time to go out to dinner\, hang with friends\, or do any activity you want. Meanwhile the kids come to play with friends\, build forts\, enjoy games\, watch a movie and more! We’ll even feed them a yummy dinner and dessert. Proceeds will go towards this season’s competition fees for our competition athletes. \nWe ask that all participants be potty trained and bring a water bottle with them. Please inform us of any food allergies and intolerances before arrival\, so we can make sure to accommodate your child. \nDate: Saturday\, September 27 \nTime: 4:30m – 8:30pm \nAges: 4 – 12 years \nPrice: $60 per child \nEnroll through our Parent Portal \nOr Enroll by emailing info@sonomagymnasticsacademy.com
URL:https://sonomagymnasticsacademy.com/event/pkno-national-gymnastics-day/
ATTACH;FMTTYPE=image/png:https://sonomagymnasticsacademy.com/wp-content/uploads/2025/09/Pink-And-Orange-Festive-Holi-Festival-Banner-1-scaled-e1758667504109.png
END:VEVENT
END:VCALENDAR