BEGIN:VCALENDAR
VERSION:2.0
PRODID:-//Sonoma Gymnastics Academy - ECPv6.15.18//NONSGML v1.0//EN
CALSCALE:GREGORIAN
METHOD:PUBLISH
X-WR-CALNAME:Sonoma Gymnastics Academy
X-ORIGINAL-URL:https://sonomagymnasticsacademy.com
X-WR-CALDESC:Events for Sonoma Gymnastics Academy
REFRESH-INTERVAL;VALUE=DURATION:PT1H
X-Robots-Tag:noindex
X-PUBLISHED-TTL:PT1H
BEGIN:VTIMEZONE
TZID:America/Los_Angeles
BEGIN:DAYLIGHT
TZOFFSETFROM:-0800
TZOFFSETTO:-0700
TZNAME:PDT
DTSTART:20250309T100000
END:DAYLIGHT
BEGIN:STANDARD
TZOFFSETFROM:-0700
TZOFFSETTO:-0800
TZNAME:PST
DTSTART:20251102T090000
END:STANDARD
BEGIN:DAYLIGHT
TZOFFSETFROM:-0800
TZOFFSETTO:-0700
TZNAME:PDT
DTSTART:20260308T100000
END:DAYLIGHT
BEGIN:STANDARD
TZOFFSETFROM:-0700
TZOFFSETTO:-0800
TZNAME:PST
DTSTART:20261101T090000
END:STANDARD
BEGIN:DAYLIGHT
TZOFFSETFROM:-0800
TZOFFSETTO:-0700
TZNAME:PDT
DTSTART:20270314T100000
END:DAYLIGHT
BEGIN:STANDARD
TZOFFSETFROM:-0700
TZOFFSETTO:-0800
TZNAME:PST
DTSTART:20271107T090000
END:STANDARD
END:VTIMEZONE
BEGIN:VEVENT
DTSTART;TZID=America/Los_Angeles:20260404T120000
DTEND;TZID=America/Los_Angeles:20260404T130000
DTSTAMP:20260423T091417
CREATED:20260401T195801Z
LAST-MODIFIED:20260401T195801Z
UID:9689-1775304000-1775307600@sonomagymnasticsacademy.com
SUMMARY:Skill Clinic: Aerials
DESCRIPTION:Join us for our Skill Clinics every Saturday 12-1pm! \nSave the Date for 4/1 Saturday 12-1 at Sonoma Gymnastics Academy for our Aerial Clinic.  \nStudents will focus on Aerials and drills leading up to Aerials! \nCost: $25 \nLength: 1hr \nRecommended level for clinics: Intermediate+ \nHave any questions? Send us an email at info@sonomagymnasticsacademy.com\nor give us a call at (707) 343-1402 \nWe look forward to seeing you there!
URL:https://sonomagymnasticsacademy.com/event/skill-clinic-aerials/
END:VEVENT
END:VCALENDAR