BEGIN:VCALENDAR
VERSION:2.0
PRODID:-//Sonoma Gymnastics Academy - ECPv6.15.18//NONSGML v1.0//EN
CALSCALE:GREGORIAN
METHOD:PUBLISH
X-ORIGINAL-URL:https://sonomagymnasticsacademy.com
X-WR-CALDESC:Events for Sonoma Gymnastics Academy
REFRESH-INTERVAL;VALUE=DURATION:PT1H
X-Robots-Tag:noindex
X-PUBLISHED-TTL:PT1H
BEGIN:VTIMEZONE
TZID:America/Los_Angeles
BEGIN:DAYLIGHT
TZOFFSETFROM:-0800
TZOFFSETTO:-0700
TZNAME:PDT
DTSTART:20240310T100000
END:DAYLIGHT
BEGIN:STANDARD
TZOFFSETFROM:-0700
TZOFFSETTO:-0800
TZNAME:PST
DTSTART:20241103T090000
END:STANDARD
BEGIN:DAYLIGHT
TZOFFSETFROM:-0800
TZOFFSETTO:-0700
TZNAME:PDT
DTSTART:20250309T100000
END:DAYLIGHT
BEGIN:STANDARD
TZOFFSETFROM:-0700
TZOFFSETTO:-0800
TZNAME:PST
DTSTART:20251102T090000
END:STANDARD
BEGIN:DAYLIGHT
TZOFFSETFROM:-0800
TZOFFSETTO:-0700
TZNAME:PDT
DTSTART:20260308T100000
END:DAYLIGHT
BEGIN:STANDARD
TZOFFSETFROM:-0700
TZOFFSETTO:-0800
TZNAME:PST
DTSTART:20261101T090000
END:STANDARD
END:VTIMEZONE
BEGIN:VEVENT
DTSTART;TZID=America/Los_Angeles:20251213T120000
DTEND;TZID=America/Los_Angeles:20251213T150000
DTSTAMP:20260423T142932
CREATED:20251015T213114Z
LAST-MODIFIED:20251105T225836Z
UID:9508-1765627200-1765638000@sonomagymnasticsacademy.com
SUMMARY:Ninja Jam!
DESCRIPTION:Hiyah!!! Throw a ninja dart in your calendar for Saturday\, December 13th for our debut Ninja Jam! \nThis action-packed party is an event unlike any other\, featuring our GymNinja program and its unique fusion of education and entertainment with Flips Fitness and Fun inspired by Gymnastics\, Parkour\, and Martial Arts! \nJoin in on all the epic activities! Don’t miss your chance to win prizes with our other skill session contest\, games of Dodgeball\, Mat Monster\, and “Ninjaball”. or by racing against the clock in the Obstacle Course speedruns! \nThis event will be taking place at Sonoma Gymnastics Academy\, 1620 Carneros Meadows Lane from 12-3pm. \nWays to Sign Up:\nParent Portal \nGive us a Call at (707 343-1402 \nor send an email at info@sonomagymnasticsacademy.com
URL:https://sonomagymnasticsacademy.com/event/ninja-jam/
ATTACH;FMTTYPE=image/png:https://sonomagymnasticsacademy.com/wp-content/uploads/2025/10/2nd-draft-of-Ninja-Jam.png
END:VEVENT
END:VCALENDAR