BEGIN:VCALENDAR
VERSION:2.0
PRODID:-//Sonoma Gymnastics Academy - ECPv6.15.18//NONSGML v1.0//EN
CALSCALE:GREGORIAN
METHOD:PUBLISH
X-WR-CALNAME:Sonoma Gymnastics Academy
X-ORIGINAL-URL:https://sonomagymnasticsacademy.com
X-WR-CALDESC:Events for Sonoma Gymnastics Academy
REFRESH-INTERVAL;VALUE=DURATION:PT1H
X-Robots-Tag:noindex
X-PUBLISHED-TTL:PT1H
BEGIN:VTIMEZONE
TZID:America/Los_Angeles
BEGIN:DAYLIGHT
TZOFFSETFROM:-0800
TZOFFSETTO:-0700
TZNAME:PDT
DTSTART:20240310T100000
END:DAYLIGHT
BEGIN:STANDARD
TZOFFSETFROM:-0700
TZOFFSETTO:-0800
TZNAME:PST
DTSTART:20241103T090000
END:STANDARD
BEGIN:DAYLIGHT
TZOFFSETFROM:-0800
TZOFFSETTO:-0700
TZNAME:PDT
DTSTART:20250309T100000
END:DAYLIGHT
BEGIN:STANDARD
TZOFFSETFROM:-0700
TZOFFSETTO:-0800
TZNAME:PST
DTSTART:20251102T090000
END:STANDARD
BEGIN:DAYLIGHT
TZOFFSETFROM:-0800
TZOFFSETTO:-0700
TZNAME:PDT
DTSTART:20260308T100000
END:DAYLIGHT
BEGIN:STANDARD
TZOFFSETFROM:-0700
TZOFFSETTO:-0800
TZNAME:PST
DTSTART:20261101T090000
END:STANDARD
END:VTIMEZONE
BEGIN:VEVENT
DTSTART;TZID=America/Los_Angeles:20251030T080000
DTEND;TZID=America/Los_Angeles:20251030T193000
DTSTAMP:20260423T155835
CREATED:20251015T214313Z
LAST-MODIFIED:20251015T214313Z
UID:9517-1761811200-1761852600@sonomagymnasticsacademy.com
SUMMARY:Costume Day!
DESCRIPTION:Come to the gym on Thursday with your Halloween costume to show your Halloween spirit! \nWhen: Thursday 30th \nWhere: Sonoma Gymnastics Academy
URL:https://sonomagymnasticsacademy.com/event/costume-day/
ATTACH;FMTTYPE=image/png:https://sonomagymnasticsacademy.com/wp-content/uploads/2025/10/Halloween-Spirit-Week-Classroom-Poster-in-Purple-and-Lilac-Illustrative-Style.png
END:VEVENT
END:VCALENDAR