BEGIN:VCALENDAR
VERSION:2.0
PRODID:-//Sonoma Gymnastics Academy - ECPv6.15.18//NONSGML v1.0//EN
CALSCALE:GREGORIAN
METHOD:PUBLISH
X-ORIGINAL-URL:https://sonomagymnasticsacademy.com
X-WR-CALDESC:Events for Sonoma Gymnastics Academy
REFRESH-INTERVAL;VALUE=DURATION:PT1H
X-Robots-Tag:noindex
X-PUBLISHED-TTL:PT1H
BEGIN:VTIMEZONE
TZID:America/Los_Angeles
BEGIN:DAYLIGHT
TZOFFSETFROM:-0800
TZOFFSETTO:-0700
TZNAME:PDT
DTSTART:20240310T100000
END:DAYLIGHT
BEGIN:STANDARD
TZOFFSETFROM:-0700
TZOFFSETTO:-0800
TZNAME:PST
DTSTART:20241103T090000
END:STANDARD
BEGIN:DAYLIGHT
TZOFFSETFROM:-0800
TZOFFSETTO:-0700
TZNAME:PDT
DTSTART:20250309T100000
END:DAYLIGHT
BEGIN:STANDARD
TZOFFSETFROM:-0700
TZOFFSETTO:-0800
TZNAME:PST
DTSTART:20251102T090000
END:STANDARD
BEGIN:DAYLIGHT
TZOFFSETFROM:-0800
TZOFFSETTO:-0700
TZNAME:PDT
DTSTART:20260308T100000
END:DAYLIGHT
BEGIN:STANDARD
TZOFFSETFROM:-0700
TZOFFSETTO:-0800
TZNAME:PST
DTSTART:20261101T090000
END:STANDARD
END:VTIMEZONE
BEGIN:VEVENT
DTSTART;TZID=America/Los_Angeles:20251029T080000
DTEND;TZID=America/Los_Angeles:20251029T200000
DTSTAMP:20260423T160248
CREATED:20251015T213806Z
LAST-MODIFIED:20251015T213906Z
UID:9515-1761724800-1761768000@sonomagymnasticsacademy.com
SUMMARY:Crazy Hair Day!
DESCRIPTION:Come to the gym on Wednesday with crazy hair to show your Halloween spirit! \nWhen: Wednesday 29th \nWhere: Sonoma Gymnastics Academy
URL:https://sonomagymnasticsacademy.com/event/crazy-hair-day/
ATTACH;FMTTYPE=image/png:https://sonomagymnasticsacademy.com/wp-content/uploads/2025/10/Halloween-Spirit-Week-Classroom-Poster-in-Purple-and-Lilac-Illustrative-Style.png
END:VEVENT
END:VCALENDAR