BEGIN:VCALENDAR
VERSION:2.0
PRODID:-//Sonoma Gymnastics Academy - ECPv6.15.18//NONSGML v1.0//EN
CALSCALE:GREGORIAN
METHOD:PUBLISH
X-ORIGINAL-URL:https://sonomagymnasticsacademy.com
X-WR-CALDESC:Events for Sonoma Gymnastics Academy
REFRESH-INTERVAL;VALUE=DURATION:PT1H
X-Robots-Tag:noindex
X-PUBLISHED-TTL:PT1H
BEGIN:VTIMEZONE
TZID:America/Los_Angeles
BEGIN:DAYLIGHT
TZOFFSETFROM:-0800
TZOFFSETTO:-0700
TZNAME:PDT
DTSTART:20240310T100000
END:DAYLIGHT
BEGIN:STANDARD
TZOFFSETFROM:-0700
TZOFFSETTO:-0800
TZNAME:PST
DTSTART:20241103T090000
END:STANDARD
BEGIN:DAYLIGHT
TZOFFSETFROM:-0800
TZOFFSETTO:-0700
TZNAME:PDT
DTSTART:20250309T100000
END:DAYLIGHT
BEGIN:STANDARD
TZOFFSETFROM:-0700
TZOFFSETTO:-0800
TZNAME:PST
DTSTART:20251102T090000
END:STANDARD
BEGIN:DAYLIGHT
TZOFFSETFROM:-0800
TZOFFSETTO:-0700
TZNAME:PDT
DTSTART:20260308T100000
END:DAYLIGHT
BEGIN:STANDARD
TZOFFSETFROM:-0700
TZOFFSETTO:-0800
TZNAME:PST
DTSTART:20261101T090000
END:STANDARD
END:VTIMEZONE
BEGIN:VEVENT
DTSTART;TZID=America/Los_Angeles:20250920T163000
DTEND;TZID=America/Los_Angeles:20250920T203000
DTSTAMP:20260423T185051
CREATED:20250916T214001Z
LAST-MODIFIED:20250919T014421Z
UID:9399-1758385800-1758400200@sonomagymnasticsacademy.com
SUMMARY:PKNO: National Gymnastics Day
DESCRIPTION:  \nJoin us for a special National Gymnastics Day event:  Parents Night Out/Kid’s Night at the gym!  This is a great opportunity for kids and grown ups to have a night out. Parents can use this time to go out to dinner\, hang with friends\, or do any activity you want. Meanwhile the kids come to play with friends\, build forts\, enjoy games\, watch a movie and more! We’ll even feed them a yummy dinner and dessert. Proceeds will go towards this season’s competition fees for our competition athletes. \nWe ask that all participants be potty trained and bring a water bottle with them. Please inform us of any food allergies and intolerances before arrival\, so we can make sure to accommodate your child. \nDate: Saturday\, September 20 \nTime: 4:30m – 8:30pm \nAges: 4 – 12 years \nPrice: $60 per child \nEnroll through our Parent Portal \nOr Enroll by emailing info@sonomagymnasticsacademy.com \n\n 
URL:https://sonomagymnasticsacademy.com/event/events-calendar/
LOCATION:Private: Sonoma Gymnastics Academy\, 1620 Carneros Meadows Lane\, Sonoma\, CA\, 95476\, United States
ATTACH;FMTTYPE=image/png:https://sonomagymnasticsacademy.com/wp-content/uploads/2025/09/Untitled-design-1-scaled.png
END:VEVENT
END:VCALENDAR